BEGIN:VCALENDAR
VERSION:2.0
PRODID:-//Zuchtverband Stadl-Paura - ECPv5.16.4//NONSGML v1.0//EN
CALSCALE:GREGORIAN
METHOD:PUBLISH
X-WR-CALNAME:Zuchtverband Stadl-Paura
X-ORIGINAL-URL:https://www.zuchtverband-stadlpaura.at
X-WR-CALDESC:Veranstaltungen für Zuchtverband Stadl-Paura
BEGIN:VTIMEZONE
TZID:UTC
BEGIN:STANDARD
TZOFFSETFROM:+0000
TZOFFSETTO:+0000
TZNAME:UTC
DTSTART:20250101T000000
END:STANDARD
END:VTIMEZONE
BEGIN:VEVENT
DTSTART;VALUE=DATE:20250510
DTEND;VALUE=DATE:20250511
DTSTAMP:20260421T101737
CREATED:20250206T075435Z
LAST-MODIFIED:20250206T075435Z
UID:9786-1746835200-1746921599@www.zuchtverband-stadlpaura.at
SUMMARY:zentrale Stutbuchaufnahme Warmblut\, Reitpony und Spezialrassen
DESCRIPTION:
URL:https://www.zuchtverband-stadlpaura.at/termine/zentrale-stutbuchaufnahme-warmblut-reitpony-und-spezialrassen/
LOCATION:Pferdezentrum Stadl-Paura\, Stallamtsweg 1\, Stadl-Paura\, 4651\, Österreich
CATEGORIES:Austrian Pony,Criollo,Fjordpferd,New Forestpony,Österreichisches Reitpony,Pinto Reitpferd,Shetlandpony,Warmblut
ATTACH;FMTTYPE=image/jpeg:https://www.zuchtverband-stadlpaura.at/wp-content/uploads/2024/05/DSC09735-scaled.jpg
ORGANIZER;CN="Zuchtverband%20Stadl-Paura":MAILTO:info@zuchtverband-stadlpaura.at
END:VEVENT
END:VCALENDAR