BEGIN:VCALENDAR
VERSION:2.0
PRODID:-//Zuchtverband Stadl-Paura - ECPv5.16.4//NONSGML v1.0//EN
CALSCALE:GREGORIAN
METHOD:PUBLISH
X-WR-CALNAME:Zuchtverband Stadl-Paura
X-ORIGINAL-URL:https://www.zuchtverband-stadlpaura.at
X-WR-CALDESC:Veranstaltungen für Zuchtverband Stadl-Paura
BEGIN:VTIMEZONE
TZID:UTC
BEGIN:STANDARD
TZOFFSETFROM:+0000
TZOFFSETTO:+0000
TZNAME:UTC
DTSTART:20260101T000000
END:STANDARD
END:VTIMEZONE
BEGIN:VEVENT
DTSTART;VALUE=DATE:20260509
DTEND;VALUE=DATE:20260510
DTSTAMP:20260419T161711
CREATED:20260115T081927Z
LAST-MODIFIED:20260115T082009Z
UID:10467-1778284800-1778371199@www.zuchtverband-stadlpaura.at
SUMMARY:zentrale Stutbuchaufnahme Warmblut\, Reitpony\, Pony & Spezialrassen
DESCRIPTION:Anmeldung unter \nService & Download – Zuchtverband Stadl-Paura \noder per Email an \ninfo@zuchtverband-stadlpaura.at
URL:https://www.zuchtverband-stadlpaura.at/termine/zentrale-stutbuchaufnahme-warmblut-oesterr-reitpony-spezialrassen/
LOCATION:Pferdezentrum Stadl-Paura\, Stallamtsweg 1\, Stadl-Paura\, 4651\, Österreich
ATTACH;FMTTYPE=image/jpeg:https://www.zuchtverband-stadlpaura.at/wp-content/uploads/2019/12/dummie-bild-1.jpg
ORGANIZER;CN="Zuchtverband%20Stadl-Paura":MAILTO:info@zuchtverband-stadlpaura.at
END:VEVENT
END:VCALENDAR