BEGIN:VCALENDAR
VERSION:2.0
PRODID:-//Zuchtverband Stadl-Paura - ECPv5.16.4//NONSGML v1.0//EN
CALSCALE:GREGORIAN
METHOD:PUBLISH
X-WR-CALNAME:Zuchtverband Stadl-Paura
X-ORIGINAL-URL:https://www.zuchtverband-stadlpaura.at
X-WR-CALDESC:Veranstaltungen für Zuchtverband Stadl-Paura
BEGIN:VTIMEZONE
TZID:UTC
BEGIN:STANDARD
TZOFFSETFROM:+0000
TZOFFSETTO:+0000
TZNAME:UTC
DTSTART:20260101T000000
END:STANDARD
END:VTIMEZONE
BEGIN:VEVENT
DTSTART;VALUE=DATE:20260724
DTEND;VALUE=DATE:20260725
DTSTAMP:20260419T150451
CREATED:20260115T085215Z
LAST-MODIFIED:20260115T085215Z
UID:10484-1784851200-1784937599@www.zuchtverband-stadlpaura.at
SUMMARY:Training Reitpferdechampionat
DESCRIPTION:Training für Warmblut\, Haflinger\, Noriker\, Pintos und österr. Reitponys \n  \nAnmeldungen bitte per Email an \ninfo@zuchtverband-stadlpaura.at
URL:https://www.zuchtverband-stadlpaura.at/termine/training-reitpferdechampionat-2/
LOCATION:Pferdezentrum Stadl-Paura\, Stallamtsweg 1\, Stadl-Paura\, 4651\, Österreich
CATEGORIES:Haflinger,Noriker,Österreichisches Reitpony,Pinto Reitpferd,Warmblut
ATTACH;FMTTYPE=image/jpeg:https://www.zuchtverband-stadlpaura.at/wp-content/uploads/2019/12/dummie-bild-1.jpg
ORGANIZER;CN="Zuchtverband%20Stadl-Paura":MAILTO:info@zuchtverband-stadlpaura.at
END:VEVENT
END:VCALENDAR