BEGIN:VCALENDAR
VERSION:2.0
PRODID:-//Zuchtverband Stadl-Paura - ECPv5.16.4//NONSGML v1.0//EN
CALSCALE:GREGORIAN
METHOD:PUBLISH
X-WR-CALNAME:Zuchtverband Stadl-Paura
X-ORIGINAL-URL:https://www.zuchtverband-stadlpaura.at
X-WR-CALDESC:Veranstaltungen für Zuchtverband Stadl-Paura
BEGIN:VTIMEZONE
TZID:UTC
BEGIN:STANDARD
TZOFFSETFROM:+0000
TZOFFSETTO:+0000
TZNAME:UTC
DTSTART:20260101T000000
END:STANDARD
END:VTIMEZONE
BEGIN:VEVENT
DTSTART;TZID=UTC:20260612T080000
DTEND;TZID=UTC:20260612T170000
DTSTAMP:20260419T145839
CREATED:20260115T084456Z
LAST-MODIFIED:20260115T084456Z
UID:10479-1781251200-1781283600@www.zuchtverband-stadlpaura.at
SUMMARY:Stutbuchaufnahme OST - Seyring bei Wien
DESCRIPTION:Anmeldungen bitte unter \nService & Download – Zuchtverband Stadl-Paura \noder per Email an \ninfo@zuchtverband-stadlpaura.at
URL:https://www.zuchtverband-stadlpaura.at/termine/stutbuchaufnahme-ost-seyring-bei-wien/
LOCATION:Seyring bei Wien\, Gartengasse 30\, Seyring\, 2201\, Österreich
CATEGORIES:Austrian Pony,Criollo,Fjordpferd,Haflinger,Huzule,Isländer,New Forestpony,Noriker,Österreichisches Reitpony,Pinto Reitpferd,Shetlandpony,Warmblut,Weißer Barockesel
ATTACH;FMTTYPE=image/jpeg:https://www.zuchtverband-stadlpaura.at/wp-content/uploads/2019/12/dummie-bild-1.jpg
ORGANIZER;CN="Zuchtverband%20Stadl-Paura":MAILTO:info@zuchtverband-stadlpaura.at
END:VEVENT
END:VCALENDAR