BEGIN:VCALENDAR
VERSION:2.0
PRODID:-//Zuchtverband Stadl-Paura - ECPv5.16.4//NONSGML v1.0//EN
CALSCALE:GREGORIAN
METHOD:PUBLISH
X-WR-CALNAME:Zuchtverband Stadl-Paura
X-ORIGINAL-URL:https://www.zuchtverband-stadlpaura.at
X-WR-CALDESC:Veranstaltungen für Zuchtverband Stadl-Paura
BEGIN:VTIMEZONE
TZID:UTC
BEGIN:STANDARD
TZOFFSETFROM:+0000
TZOFFSETTO:+0000
TZNAME:UTC
DTSTART:20260101T000000
END:STANDARD
END:VTIMEZONE
BEGIN:VEVENT
DTSTART;TZID=UTC:20260428T080000
DTEND;TZID=UTC:20260428T170000
DTSTAMP:20260419T162015
CREATED:20260115T081158Z
LAST-MODIFIED:20260416T102521Z
UID:10463-1777363200-1777395600@www.zuchtverband-stadlpaura.at
SUMMARY:Frühlingsbörse - VERSCHOBEN!
DESCRIPTION:verkäufliche Pferde (von uns betreuter Pferderassen)
URL:https://www.zuchtverband-stadlpaura.at/termine/fruehlingsboerse/
LOCATION:Pferdezentrum Stadl-Paura\, Stallamtsweg 1\, Stadl-Paura\, 4651\, Österreich
CATEGORIES:Austrian Pony,Criollo,Fjordpferd,Haflinger,Huzule,Isländer,New Forestpony,Noriker,Österreichisches Reitpony,Pinto Reitpferd,Shetlandpony,Warmblut
ATTACH;FMTTYPE=image/jpeg:https://www.zuchtverband-stadlpaura.at/wp-content/uploads/2019/12/dummie-bild-1.jpg
ORGANIZER;CN="Zuchtverband%20Stadl-Paura":MAILTO:info@zuchtverband-stadlpaura.at
END:VEVENT
END:VCALENDAR