BEGIN:VCALENDAR
VERSION:2.0
PRODID:-//Zuchtverband Stadl-Paura - ECPv5.16.4//NONSGML v1.0//EN
CALSCALE:GREGORIAN
METHOD:PUBLISH
X-WR-CALNAME:Zuchtverband Stadl-Paura
X-ORIGINAL-URL:https://www.zuchtverband-stadlpaura.at
X-WR-CALDESC:Veranstaltungen für Zuchtverband Stadl-Paura
BEGIN:VTIMEZONE
TZID:UTC
BEGIN:STANDARD
TZOFFSETFROM:+0000
TZOFFSETTO:+0000
TZNAME:UTC
DTSTART:20260101T000000
END:STANDARD
END:VTIMEZONE
BEGIN:VEVENT
DTSTART;VALUE=DATE:20260730
DTEND;VALUE=DATE:20260801
DTSTAMP:20260419T150008
CREATED:20260116T073903Z
LAST-MODIFIED:20260116T073903Z
UID:10526-1785369600-1785542399@www.zuchtverband-stadlpaura.at
SUMMARY:Fohlenregistrierung Burgenland 30.-31.07.2026
DESCRIPTION:HOFTERMINE müssen bis 15.06.2026 beantragt werden!
URL:https://www.zuchtverband-stadlpaura.at/termine/fohlenregistrierung-burgenland-30-31-07-2026/
CATEGORIES:Austrian Pony,Criollo,Fjordpferd,Haflinger,Huzule,Isländer,New Forestpony,Noriker,Österreichisches Reitpony,Pinto Reitpferd,Shetlandpony,Warmblut,Weißer Barockesel
ATTACH;FMTTYPE=image/jpeg:https://www.zuchtverband-stadlpaura.at/wp-content/uploads/2021/03/Fohlenregistrierung-Inzinger.jpg
END:VEVENT
END:VCALENDAR