BEGIN:VCALENDAR
VERSION:2.0
PRODID:-//Zuchtverband Stadl-Paura - ECPv5.16.4//NONSGML v1.0//EN
CALSCALE:GREGORIAN
METHOD:PUBLISH
X-WR-CALNAME:Zuchtverband Stadl-Paura
X-ORIGINAL-URL:https://www.zuchtverband-stadlpaura.at
X-WR-CALDESC:Veranstaltungen für Zuchtverband Stadl-Paura
BEGIN:VTIMEZONE
TZID:UTC
BEGIN:STANDARD
TZOFFSETFROM:+0000
TZOFFSETTO:+0000
TZNAME:UTC
DTSTART:20260101T000000
END:STANDARD
END:VTIMEZONE
BEGIN:VEVENT
DTSTART;TZID=UTC:20260524T130000
DTEND;TZID=UTC:20260524T170000
DTSTAMP:20260419T145738
CREATED:20260115T084054Z
LAST-MODIFIED:20260115T084054Z
UID:10475-1779627600-1779642000@www.zuchtverband-stadlpaura.at
SUMMARY:Bundeshengstschau
DESCRIPTION:
URL:https://www.zuchtverband-stadlpaura.at/termine/bundeshengstschau/
LOCATION:Pferdezentrum Stadl-Paura\, Stallamtsweg 1\, Stadl-Paura\, 4651\, Österreich
CATEGORIES:Austrian Pony,Criollo,Fjordpferd,Haflinger,Huzule,Isländer,New Forestpony,Noriker,Österreichisches Reitpony,Pinto Reitpferd,Shetlandpony,Warmblut,Weißer Barockesel
ATTACH;FMTTYPE=image/jpeg:https://www.zuchtverband-stadlpaura.at/wp-content/uploads/2026/01/ZAP-Bild.jpg
ORGANIZER;CN="Pferd%20Austria":MAILTO:office@pferdezucht-austria.at
END:VEVENT
END:VCALENDAR